BEGIN:VCALENDAR
VERSION:2.0
PRODID:-//wp-events-plugin.com//7.2.3.1//EN
TZID:Europe/Berlin
X-WR-TIMEZONE:Europe/Berlin
BEGIN:VEVENT
UID:4005@syntopia.info
DTSTART:20180518T170000Z
DTEND:20180518T210000Z
DTSTAMP:20180321T211818Z
URL:https://syntopia.info/events/aktions-und-infotresen-der-solinger-brand
 anschlag-1993-hintergruende-reaktionen-und-umgang/
SUMMARY:Aktions- und Infotresen: Der Solinger Brandanschlag 1993 – Hinter
 gründe\, Reaktionen und Umgang.
DESCRIPTION:►Aktions- und Infotresen:\nJeden Monat – politische Vorträ
 ge\, Workshops\, Leute kennenlernen\, sich austauschen\, vernetzen und eig
 ene Ideen einbringen.\nFür alle Interessierten die sich engagieren und or
 ganisieren wollen.\nLeckeres Essen gegen Spende.\nKommt vorbei!\nWir freue
 n uns auf alte und neue Gesichter.\n\nEine Veranstaltung der Antirassistis
 chen Intervention Duisburg [Blog] [FB] [Twitter]\n\n►Maiprogramm: Vortra
 g & Diskussion: Der Solinger Brandanschlag 1993 – Hintergründe\, Reakti
 onen und Umgang.\n\nAls in der Nacht zum 29. Mai 1993 das Haus der Solinge
 r Familie Genç in Brand gesetzt wurde\, war dies in NRW der traurige Höh
 epunkt einer Vielzahl von Angriffen auf Geflüchtete und Migrant_innen. Be
 i dem Anschlag kamen mehrere Menschen ums Leben: Saime Genç (4)\, Hülya 
 Genç (9)\, Gülüstan Öztürk (12)\, Hatice Genç (18) und Gürsün Ince
  (27). Weitere Bewohner_innen des Hauses wurden verletzt\, einige von ihne
 n lebensgefährlich.\n\nWer waren die Täter und vor welchem Hintergrund w
 urde der Anschlag verübt? Wie waren die Reaktionen auf den Anschlag und w
 elchen Verlauf nahm der Strafprozess vor dem Düsseldorfer Oberlandesgeric
 ht? Und nicht zuletzt: Welche Rolle spielte der Verfassungsschutz\, der an
  zentraler Stelle der Solinger Neonaziszene einen V-Mann platziert hatte?\
 n\nReferent: Jürgen Peters (Freier Journalist und Referent des Antirassis
 tischen Bildungsforums Rheinland)
END:VEVENT
END:VCALENDAR