BEGIN:VCALENDAR
VERSION:2.0
PRODID:-//wp-events-plugin.com//7.2.3.1//EN
TZID:Europe/Berlin
X-WR-TIMEZONE:Europe/Berlin
BEGIN:VEVENT
UID:2438@syntopia.info
DTSTART:20170710T170000Z
DTEND:20170710T190000Z
DTSTAMP:20170626T030609Z
URL:https://syntopia.info/events/be-neighbours-offenes-plenum-3/
SUMMARY:Be neighbours - Offenes Plenum
DESCRIPTION:
END:VEVENT
END:VCALENDAR