BEGIN:VCALENDAR
VERSION:2.0
PRODID:-//wp-events-plugin.com//7.2.3.1//EN
TZID:Europe/Berlin
X-WR-TIMEZONE:Europe/Berlin
BEGIN:VEVENT
UID:114@syntopia.info
DTSTART:20141106T173000Z
DTEND:20141106T200000Z
DTSTAMP:20141012T212352Z
URL:https://syntopia.info/events/cinema-critique-erhobenen-hauptes-ueberle
 ben-im-kibbuz-maabarot/
SUMMARY:Cinéma Critique: "Erhobenen Hauptes. (Über)Leben im Kibbuz Ma‘a
 barot"
DESCRIPTION:„Erhobenen Hauptes. (Über)Leben im Kibbuz Ma‘abarot“\nEi
 n Filmprojekt von Documentary View\n\n► Die Gruppe Crème Critique veran
 staltet ein Mal im Monat den politischen Filmabend “Cinéma Critique” 
 \n\n► Der Trailer \n\n►Die Lebensgeschichten von fünf Personen\, die
  zwei Dinge teilen: Sie alle sind als Kinder in Deutschland geboren und au
 fgewachsen und wurden als Juden und Jüdinnen ab 1933 von den Nazis verfol
 gt – und sie alle leben im gemeinschaftlich-sozialistisch organisierten 
 Kibbuz Ma‘abarot in Israel. Wann\, wie und warum sie dorthin kamen\, erz
 ählen sie auf eindrückliche Weise. Wenn sie vom Leben im Kibbuz berichte
 n\, spürt man ihre Begeisterung und Leidenschaft.\n\n►Die Veranstaltung
  findet im Rahmen der "Aktionswochen gegen Antisemitismus" statt.
END:VEVENT
END:VCALENDAR