BEGIN:VCALENDAR
VERSION:2.0
PRODID:-//wp-events-plugin.com//7.2.3.1//EN
TZID:Europe/Berlin
X-WR-TIMEZONE:Europe/Berlin
BEGIN:VEVENT
UID:765@syntopia.info
DTSTART:20160412T170000Z
DTEND:20160412T200000Z
DTSTAMP:20160328T184939Z
URL:https://syntopia.info/events/cinokratie-24/
SUMMARY:Cinokratie
DESCRIPTION:
END:VEVENT
END:VCALENDAR