BEGIN:VCALENDAR
VERSION:2.0
PRODID:-//wp-events-plugin.com//7.2.3.1//EN
TZID:Europe/Berlin
X-WR-TIMEZONE:Europe/Berlin
BEGIN:VEVENT
UID:442@syntopia.info
DTSTART:20150811T170000Z
DTEND:20150811T200000Z
DTSTAMP:20150721T201217Z
URL:https://syntopia.info/events/cinokratie-9/
SUMMARY:Cinokratie
DESCRIPTION:
END:VEVENT
END:VCALENDAR