BEGIN:VCALENDAR
VERSION:2.0
PRODID:-//wp-events-plugin.com//7.2.3.1//EN
TZID:Europe/Berlin
X-WR-TIMEZONE:Europe/Berlin
BEGIN:VEVENT
UID:6688@syntopia.info
DTSTART:20230106T170000Z
DTEND:20230106T190000Z
DTSTAMP:20221222T165031Z
URL:https://syntopia.info/events/crypto-abend-2/
SUMMARY:Crypto-Abend
DESCRIPTION:Wie kann man Privatsphäre und Anonymität im Netz schützen un
 d erhalten? Dies soll hier anhand verschiedener Alternativen und Praktiken
  näher gebracht werden. Wir freuen uns\, in entspannter Runde Erfahrungen
  und Neuigkeiten mit euch auszutauschen.
END:VEVENT
END:VCALENDAR