BEGIN:VCALENDAR
VERSION:2.0
PRODID:-//wp-events-plugin.com//7.2.3.1//EN
TZID:Europe/Berlin
X-WR-TIMEZONE:Europe/Berlin
BEGIN:VEVENT
UID:294@syntopia.info
DTSTART:20150425T130000Z
DTEND:20150425T150000Z
DTSTAMP:20150407T072206Z
URL:https://syntopia.info/events/cryptoparty-e-mails-verschluesseln-mit-pg
 p/
SUMMARY:CryptoParty: E-Mails verschlüsseln mit PGP
DESCRIPTION:In diesem Workshop bringen wir uns gegenseitig das Verschlüsse
 ln von E-Mails mit PGP bei. Außerdem wird es eine kurze Einführung in di
 e Funktionsweise von PGP und Tipps geben. Bitte bringt\, wenn vorhanden\, 
 euren Laptop mit.
END:VEVENT
END:VCALENDAR