BEGIN:VCALENDAR
VERSION:2.0
PRODID:-//wp-events-plugin.com//7.2.3.1//EN
TZID:Europe/Berlin
X-WR-TIMEZONE:Europe/Berlin
BEGIN:VEVENT
UID:5334@syntopia.info
DTSTART:20191129T170000Z
DTEND:20191129T210000Z
DTSTAMP:20191030T161753Z
URL:https://syntopia.info/events/film-dass-das-heute-noch-immer-so-ist-kon
 tinuitaeten-der-ausgrenzung/
SUMMARY:Film: "... dass das heute noch immer so ist -- Kontinuitäten der A
 usgrenzung"
DESCRIPTION:Die Antirassistische Intervention Duisburg zeigt als Auftakt ei
 ner einer Reihe zum Gedenken einen Film über Maria\, die das Jugendschutz
 lager Uckermark überlebt hat.\nDer Dokumentarfilm "...dass das heute noch
  immer so ist -- Kontinuitäten der Ausgrenzung" schildert exemplarisch di
 e Geschichte von Verfolgung und Stigmatisierung sogenannter Asozialer im N
 ationalsozialismus.\nMaria leidet bis heute unter der Verfolgung. Wie in a
 llen Familien gibt es auch in ihrer Familie generationsübergreifende Ausw
 irkungen der Verfolgungsgeschichte. In Interviewsequenzen erzählen Nichte
 n und Neffen\, wie sie von der Verfolgung ihrer Tante erfahren haben und w
 as die Geschichte für sie bedeutet.\nIn vielen Deutschen Orten gibt es ve
 rmutlich ähnliche Geschichten der Verfolgung und Ausgrenzung.\n\nEin Film
  der Initiative für einen Gedenkort ehemaliges KZ Uckermark e.V. in Koope
 ration mit der Österreichischen Lagergemeinschaft\n\nDokumentarfilm\, 60 
 Min.\, 2016
END:VEVENT
END:VCALENDAR