BEGIN:VCALENDAR
VERSION:2.0
PRODID:-//wp-events-plugin.com//7.2.3.1//EN
TZID:Europe/Berlin
X-WR-TIMEZONE:Europe/Berlin
BEGIN:VEVENT
UID:4112@syntopia.info
DTSTART:20180424T163000Z
DTEND:20180424T203000Z
DTSTAMP:20180414T195723Z
URL:https://syntopia.info/events/filmvorfuehrung-die-strategie-der-krummen
 -gurken-solidarische-landwirtschaft-solawi-niederrhein/
SUMMARY:Filmvorführung: „Die Strategie der krummen Gurken“\, Solidaris
 che Landwirtschaft (SoLaWi) Niederrhein
DESCRIPTION:SoLaWi Niederrhein zeigt den Film "Die Strategie der krummen Gu
 rken.\n\nDie GartenCoop Freiburg setzt ein erfolgreiches Modell solidarisc
 her Landwirtschaft um. Rund 260 Mitglieder teilen sich die Verantwortung f
 ür einen landwirtschaftlichen Betrieb in Stadtnähe und tragen gemeinsam 
 die Kosten und Risiken der Landwirtschaft. Die gesamte Ernte – ob gut od
 er schlecht\, krumm oder gerade – wird auf alle Mitglieder verteilt. Ein
  konsequenter ökologischer Anbau\, Saisonalität\, 100% samenfeste Sorten
 \, kurze Wege\, solidarische Ökonomie\, kollektives Eigentum\, Bildung\, 
 sowie mit anpacken in der Landwirtschaft sind nur einige der vielen Merkma
 le des Projekts.\nDieser Dokumentarfilm gibt Einblick in die Motivationen 
 und das Innenleben der Kooperative. Er zeigt Menschen\, die in Zeiten öko
 nomischer und ökologischer Krise der Macht der Agrarindustrie etwas entge
 gensetzen: Die Strategie der krummen Gurken.\n\nEine cine rebelde Produkti
 on 2013\, 64 Min.\nEin Film von Sylvain Darou und Luciano Ibarra\n\nMehr I
 nfos zu SoLaWi:\nhttps://www.facebook.com/pg/vereinsolawiniederrhein\nhttp
 s://www.solawi-niederrhein.de/
END:VEVENT
END:VCALENDAR