BEGIN:VCALENDAR
VERSION:2.0
PRODID:-//wp-events-plugin.com//7.2.3.1//EN
TZID:Europe/Berlin
X-WR-TIMEZONE:Europe/Berlin
BEGIN:VEVENT
UID:1246@syntopia.info
DTSTART:20161120T080000Z
DTEND:20161120T130000Z
DTSTAMP:20161029T200303Z
URL:https://syntopia.info/events/flugdrachen-basteln-fuer-und-mit-kindern/
SUMMARY:Flugdrachen basteln für und mit Kindern
DESCRIPTION:
END:VEVENT
END:VCALENDAR