BEGIN:VCALENDAR
VERSION:2.0
PRODID:-//wp-events-plugin.com//7.2.3.1//EN
TZID:Europe/Berlin
X-WR-TIMEZONE:Europe/Berlin
BEGIN:VEVENT
UID:239@syntopia.info
DTSTART:20150222T130000Z
DTEND:20150222T160000Z
DTSTAMP:20150130T183430Z
URL:https://syntopia.info/events/frauencafe-3/
SUMMARY:Frauencafé
DESCRIPTION:Das Frauencafé soll ein Ort von und für Frauen sein\, egal 
 welche Herkunft\, welches Alter und welchen Status sie haben mögen.\nWir 
 wollen gemeinsame Interessen teilen und gemeinsame Ideen entwickeln. Ein O
 rt\, an dem wir einfach mal plaudern\, uns gegenseitig kennen lernen\, aus
 tauschen und unterstützen sowie Freundschaften schließen können.\n\nWir
  wollen in Achtung und Wertschätzung das leben\, was uns wichtig ist!\n\n
 Das heißt für uns\, dem alltäglichen Sexismus\, aber auch Rassismus und
  sonstigen Formen gesellschaftlicher Unterdrückung\, Strategien der Mensc
 hlichkeit entgegen zu setzen.\n\nDas Frauencafe finden immer am letzten So
 nntag des Monats statt.\n\n(nachmittags zwischen 15 Uhr und 18 Uhr)
END:VEVENT
END:VCALENDAR