BEGIN:VCALENDAR
VERSION:2.0
PRODID:-//wp-events-plugin.com//7.2.3.1//EN
TZID:Europe/Berlin
X-WR-TIMEZONE:Europe/Berlin
BEGIN:VEVENT
UID:224@syntopia.info
DTSTART:20150722T180000Z
DTEND:20150722T210000Z
DTSTAMP:20150629T142551Z
URL:https://syntopia.info/events/funk-your-head-up-hip-hop-tresen/
SUMMARY:„Funk Your Head Up“ Hip Hop Tresen
DESCRIPTION:Bock auf gute Atmosphäre? Bock auf gute Musik?\n Dann kommse a
 m besten am 19.11.14 ins Syntopia in Duisburg!\n Denn da wird zusammen Rad
 io gehört\, aber nicht irgendwas\, sondern \n "Funk Your Head Up"\, die 
 HipHop Radio-Show aus Dortmund. Die Show die euch \n zeigt\, was zurzeit 
 im Pott in sachen HipHop so läuft. 
END:VEVENT
END:VCALENDAR