BEGIN:VCALENDAR
VERSION:2.0
PRODID:-//wp-events-plugin.com//7.2.3.1//EN
TZID:Europe/Berlin
X-WR-TIMEZONE:Europe/Berlin
BEGIN:VEVENT
UID:845@syntopia.info
DTSTART:20160623T170000Z
DTEND:20160623T200000Z
DTSTAMP:20160519T112718Z
URL:https://syntopia.info/events/gewerkschaft-am-kai-zur-geschichte-der-ha
 fenarbeit-und-der-hafengewerkschaften/
SUMMARY:Gewerkschaft am Kai – Zur Geschichte der Hafenarbeit und der Hafe
 ngewerkschaften\, Vortrag und Diskussion mit Dr. Rolf Geffken
DESCRIPTION:Gewerkschaft am Kai – Zur Geschichte der Hafenarbeit und der 
 Hafengewerkschaften\nVortrag und Diskussion mit Dr. Rolf Geffken\,\nAutor 
 des Buches »Arbeit und Arbeitskampf im Hafen«\, Bremen 2015\n\nHäfen si
 nd der Flaschenhals für den deutschen Außenhandel. 40 Prozent der Export
 e\, 60 Prozent der Importe gehen über die Kaikante. Hafenarbeiterinnen un
 d Hafenarbeiter besetzen einen neuralgischen Punkt der Volkswirtschaft. En
 tsprechende gewerkschaftliche Organisation vorausgesetzt\, können sie eno
 rme Durchsetzungsmacht entfalten. Doch zugleich ist die Beschäftigung bei
 m Warenumschlag starken Schwankungen ausgesetzt. Bricht der Export ein\, w
 ie zuletzt in der Krise 2008/2009\, kommen Löhne und Sozialstandards schn
 ell unter Druck. Unstetigkeit und Schlagkraft – diese Ambivalenz kennzei
 chnet die Situation bis heute.\n\nHäfen sind »Orte knallharter Interesse
 ngegensätze«\, schreibt der Arbeitsrechtler und Seefahrtsexperte Dr. Rol
 f Geffken in seinem 2015 erschienenen Buch »Arbeit und Arbeitskampf im Ha
 fen«.  In den vergangenen Jahren wurde die Arbeitsproduktivität »ins Un
 ermessliche gesteigert«. Doch während die Gewinne der Schiffseigner und 
 Hafenbetreiber anwuchsen\, hielten die Löhne der Hafenarbeiter damit nich
 t Schritt. Steht uns also\, 120 Jahre nach dem Hamburger Streik\, wieder e
 in großer Arbeitskampf in den Häfen bevor? »Unternehmer\, Reeder und ma
 nche Politiker würden dies beklagen. Sie hoffen immer noch auf sozialpart
 nerschaftliche oder handlungsunwillige Gewerkschaften«\, schreibt der Aut
 or. »Doch die Hafenarbeiter sollten sich davon nicht irritieren lassen\, 
 sondern ihre Interessen selbst in die Hand nehmen.«\n\nDie Veranstaltung 
 erfolgt in Kooperation mit der Rosa-Luxemburg-Stiftung
END:VEVENT
END:VCALENDAR