BEGIN:VCALENDAR
VERSION:2.0
PRODID:-//wp-events-plugin.com//7.2.3.1//EN
TZID:Europe/Berlin
X-WR-TIMEZONE:Europe/Berlin
BEGIN:VEVENT
UID:6850@syntopia.info
DTSTART:20230614T170000Z
DTEND:20230614T190000Z
DTSTAMP:20230602T133510Z
URL:https://syntopia.info/events/hochfeld-solidarisch-gemeinsam-sind-wir-s
 tark/
SUMMARY:Hochfeld Solidarisch - Gemeinsam sind wir stark!
DESCRIPTION:Hallo zusammen\,\nals „Hochfeld solidarisch“ haben sich in 
 den letzten Monaten im Syntopia einige Leute zusammengefunden. Gemeinsam w
 ollen wir eine solidarische Nachbarschaft aufbauen. So sind bereits mehrer
 e konkrete Projekte gestartet: Seit einigen Wochen laden wir zweimal monat
 lich zur solidarischen Küche ein\, betreuen den Umsonstladen im Syntopia 
 und haben zusammen den 1. Mai in unserem Viertel gestaltet.\n\nEs gibt vie
 le Ideen\, was wir noch gemeinsam organisieren könnten\, z.B.:\n    \
 n\n\n 	Hausaufgabenhilfe\n\n\n\n\n 	Nachbarschaftscafè\n\n\n\n\n 	Spielea
 bende\n\n\n\n\n 	eine feministischen Gruppe gegen häusliche Gewalt im Sta
 dtteil\n\n\n\n\n 	Aktivismus gegen Neubauprojekte wie z.B. Rheinort oder H
 äuserräumungen\n\n\n\nNeben konkreten Projekten und Angeboten möchten w
 ir auch einen Zusammenschluss schaffen\, um uns gegenseitig zu unterstütz
 en und gemeinsam gegen Ungerechtigkeit zu kämpfen.\n\nWir laden alle Inte
 ressierten herzlich zu unserem nächsten Treffen ins Syntopia ein. Bringt 
 eure Ideen mit\, lasst uns vernetzen und gemeinsam überlegen\, was wir al
 s nächstes starten wollen.\n\nWann: Mittwoch\, 14.06.2023\, 19 Uhr\nWo: S
 yntopia\, Gerokstr. 2\, DU-Hochfeld\n\nKannst Du an dem Tag nicht\, bist a
 ber an „Hochfeld Solidarisch“ interessiert\, hast Ideen oder willst Di
 ch in Zukunft mit uns organisieren? Schreib uns an: solidarisch ÄT hochfe
 ld.org
END:VEVENT
END:VCALENDAR