BEGIN:VCALENDAR
VERSION:2.0
PRODID:-//wp-events-plugin.com//7.2.3.1//EN
TZID:Europe/Berlin
X-WR-TIMEZONE:Europe/Berlin
BEGIN:VEVENT
UID:6593@syntopia.info
DTSTART:20211130T170000Z
DTEND:20211130T190000Z
DTSTAMP:20211128T201924Z
URL:https://syntopia.info/events/how-to-syntopia/
SUMMARY:How to Syntopia ABGESAGT
DESCRIPTION:Wie funktioniert der Stadtteil- und Projektladen SYNTOPIA und w
 ie kann ich mich einbringen?\n\nAlle die schonmal oder noch nicht im SYNTO
 PIA waren. Alle die sich schon immer gefragt haben\, was so ein unabhängi
 ger Stadtteil- und Projektladen eigentlich genau ist\, wie so ein Laden ei
 gentlich funktioniert und funktionieren kann. Alle die neuerdings oder sch
 on länger mit dem Gedanken spielen sich im Syntopia zu engagieren. Alle d
 ie auf der Suche nach einem Ort des friedlichen Miteinanders sind an dem m
 an sich gegenseitig unterstützen und gemeinsam engagieren kann. Alle die 
 Kultur\, politisches und soziales Engagement und Selbstorganisation von un
 ten wichtig finden und\, und …\n\nIhr alle seid herzlichst eingeladen da
 s SYNTOPIA in gemütlicher Atmosphäre kennenzulernen und ganz unverbindli
 ch zu schauen\, wie ihr euch einbringen könntet.\n\nWir freuen uns auf Di
 ch!\n\nBitte beachtet\, dass die Einlassregeln im Syntopia derzeit nur 2G 
 zulassen. Bitte habt Verständnis\, dass wir dies am Eingang kontrollieren
 : Führt bitte euer Impfzertifikat oder Genesungsnachweis sowie einen Lich
 tbildausweis mit. Weitere Infos dazu findet ihr hier.
END:VEVENT
END:VCALENDAR