BEGIN:VCALENDAR
VERSION:2.0
PRODID:-//wp-events-plugin.com//7.2.3.1//EN
TZID:Europe/Berlin
X-WR-TIMEZONE:Europe/Berlin
BEGIN:VEVENT
UID:216@syntopia.info
DTSTART:20150108T170000Z
DTEND:20150108T200000Z
DTSTAMP:20150103T123158Z
URL:https://syntopia.info/events/libertaerer-abend-2/
SUMMARY:Libertärer Abend
DESCRIPTION:Offener anarchistischer Abend der Gruppe "Einfach machen" - zum
  Austausch\, Kennenlernen und gemütlichen Beisammensein. Immer an  jedem
  zweiten und vierten Donnerstag im Monat\, ab 19 Uhr.\n\nThema dieses mal 
 ist: „Islamhass heute - vom Stammtisch auf die Straße“
END:VEVENT
END:VCALENDAR