BEGIN:VCALENDAR
VERSION:2.0
PRODID:-//wp-events-plugin.com//7.2.3.1//EN
TZID:Europe/Berlin
X-WR-TIMEZONE:Europe/Berlin
BEGIN:VEVENT
UID:317@syntopia.info
DTSTART:20150514T170000Z
DTEND:20150514T210000Z
DTSTAMP:20150503T145839Z
URL:https://syntopia.info/events/libertaerer-abend-6/
SUMMARY:Libertärer Abend
DESCRIPTION:Info- / Mobiveranstaltung der AFRR zum G7-Gipfel 2015\n\nhttps:
 //www.facebook.com/events/1623636957866958/
END:VEVENT
END:VCALENDAR