BEGIN:VCALENDAR
VERSION:2.0
PRODID:-//wp-events-plugin.com//7.2.3.1//EN
TZID:Europe/Berlin
X-WR-TIMEZONE:Europe/Berlin
BEGIN:VEVENT
UID:514@syntopia.info
DTSTART:20151112T170000Z
DTEND:20151112T200000Z
DTSTAMP:20151030T154615Z
URL:https://syntopia.info/events/libertaerer-abend-gemeinsam-hochfeld-gest
 alten/
SUMMARY:Offener Diskussionsabend: Gemeinsam Hochfeld gestalten
DESCRIPTION:Offenes Organisationstreffen ♥\nLasst uns gemeinsam überlege
 n wie wir das Leben in Hochfeld gemeinsam schöner gestalten können ♥
END:VEVENT
END:VCALENDAR