BEGIN:VCALENDAR
VERSION:2.0
PRODID:-//wp-events-plugin.com//7.2.3.1//EN
TZID:Europe/Berlin
X-WR-TIMEZONE:Europe/Berlin
BEGIN:VEVENT
UID:445@syntopia.info
DTSTART:20150813T170000Z
DTEND:20150813T200000Z
DTSTAMP:20150725T174652Z
URL:https://syntopia.info/events/libertaerer-abend-hochfeld-gemeinsam-gest
 alten/
SUMMARY:Libertärer Abend: Hochfeld gemeinsam gestalten
DESCRIPTION:Libertärer Abend im Syntopia\n\nOffener Diskussionsabend:\nAng
 estrebt ist eine lockere Runde in der gemeinsam überlegt wird wie man Hoc
 hfeld für alle Menschen schöner und offener machen könnte. Also wo man 
 z.B. mit sozialen Projekten anfangen könnte und was für welche es sein k
 önnten...\nWenn du auch Lust hast etwas zu einem schöneren Hochfeld für
  alle beisteuern\, komm doch einfach vorbei.\n\nFacebook-Veranstaltung
END:VEVENT
END:VCALENDAR