BEGIN:VCALENDAR
VERSION:2.0
PRODID:-//wp-events-plugin.com//7.2.3.1//EN
TZID:Europe/Berlin
X-WR-TIMEZONE:Europe/Berlin
BEGIN:VEVENT
UID:206@syntopia.info
DTSTART:20141225T170000Z
DTEND:20141225T200000Z
DTSTAMP:20141126T214609Z
URL:https://syntopia.info/events/libertaerer-abend-vernetzung-ohne-herrsch
 aft-und-wie/
SUMMARY:Libertärer Abend - "Vernetzung ohne Herrschaft! Und wie?"
DESCRIPTION:Offener anarchistischer Abend der Gruppe “Einfach machen” 
 – zum Austausch\, Kennenlernen und gemütlichen Beisammensein. In Zukunf
 t jeden zweiten und vierten Donnerstag im Monat\, ab 19 Uhr.\n\nBei dieser
  Veranstaltung am 25.12. wird es einen Vortrag zum Thema “Vernetzung ohn
 e Herrschaft! Und wie?” geben und anschließend Raum für Diskussion. Ra
 hmenprogramm für die kommenden Veranstaltungen folgt.
END:VEVENT
END:VCALENDAR