BEGIN:VCALENDAR
VERSION:2.0
PRODID:-//wp-events-plugin.com//7.2.3.1//EN
TZID:Europe/Berlin
X-WR-TIMEZONE:Europe/Berlin
BEGIN:VEVENT
UID:5046@syntopia.info
DTSTART:20190426T170000Z
DTEND:20190426T210000Z
DTSTAMP:20190320T185354Z
URL:https://syntopia.info/events/metaltresen-2/
SUMMARY:Metaltresen
DESCRIPTION:
END:VEVENT
END:VCALENDAR