BEGIN:VCALENDAR
VERSION:2.0
PRODID:-//wp-events-plugin.com//7.2.3.1//EN
TZID:Europe/Berlin
X-WR-TIMEZONE:Europe/Berlin
BEGIN:VEVENT
UID:5174@syntopia.info
DTSTART:20190801T220000Z
DTEND:20190802T210000Z
DTSTAMP:20190726T110115Z
URL:https://syntopia.info/events/monatsanfangstresen/
SUMMARY:Monatsanfangstresen
DESCRIPTION:
END:VEVENT
END:VCALENDAR