BEGIN:VCALENDAR
VERSION:2.0
PRODID:-//wp-events-plugin.com//7.2.3.1//EN
TZID:Europe/Berlin
X-WR-TIMEZONE:Europe/Berlin
BEGIN:VEVENT
UID:767@syntopia.info
DTSTART:20160414T170000Z
DTEND:20160414T200000Z
DTSTAMP:20160328T185149Z
URL:https://syntopia.info/events/offener-diskussionsabend-hochfeld-gemeins
 am-gestalten-3/
SUMMARY:Offener Diskussionsabend: "Hochfeld gemeinsam gestalten"
DESCRIPTION:Wir möchten gerne mit euch zusammen ein Gegenstück zum herrsc
 henden System entwickeln. Heißt an Alternativen zum stumpfen Konsumieren 
 von Waren und Dienstleistung arbeiten und eigene Projekte aufbauen. Dieses
  Treffen soll hierzu als Vernetzungspunkt für kreative Personen und Grupp
 en dienen\, die gemeinsam auf ein noch schöneres Hochfeld hinarbeiten wol
 len. Wenn auch du dich einbringen willst\, ob in bestehenden Aktionen oder
  bei der Entwickelung von Neuen\, komm doch einfach vorbei &#x1f609\;
END:VEVENT
END:VCALENDAR