BEGIN:VCALENDAR
VERSION:2.0
PRODID:-//wp-events-plugin.com//7.2.3.1//EN
TZID:Europe/Berlin
X-WR-TIMEZONE:Europe/Berlin
BEGIN:VEVENT
UID:51@syntopia.info
DTSTART:20140910T160000Z
DTEND:20140910T180000Z
DTSTAMP:20140830T114346Z
URL:https://syntopia.info/events/offenes-plenum-2014-09-10/
SUMMARY:Offenes Ladenplenum\, ab 20h Tresen
DESCRIPTION:
END:VEVENT
END:VCALENDAR