BEGIN:VCALENDAR
VERSION:2.0
PRODID:-//wp-events-plugin.com//7.2.3.1//EN
TZID:Europe/Berlin
X-WR-TIMEZONE:Europe/Berlin
BEGIN:VEVENT
UID:659@syntopia.info
DTSTART:20160203T160000Z
DTEND:20160203T180000Z
DTSTAMP:20160121T014219Z
URL:https://syntopia.info/events/offenes-syntopia-plenum-16/
SUMMARY:Offenes Syntopia-Plenum
DESCRIPTION:
END:VEVENT
END:VCALENDAR