BEGIN:VCALENDAR
VERSION:2.0
PRODID:-//wp-events-plugin.com//7.2.3.1//EN
TZID:Europe/Berlin
X-WR-TIMEZONE:Europe/Berlin
BEGIN:VEVENT
UID:6251@syntopia.info
DTSTART:20160914T170000Z
DTEND:20160914T180000Z
DTSTAMP:20200610T174110Z
URL:https://syntopia.info/events/offenes-syntopia-plenum-4-2016-09-14/
SUMMARY:Offenes Syntopia-Plenum
DESCRIPTION:
END:VEVENT
END:VCALENDAR