BEGIN:VCALENDAR
VERSION:2.0
PRODID:-//wp-events-plugin.com//7.2.3.1//EN
TZID:Europe/Berlin
X-WR-TIMEZONE:Europe/Berlin
BEGIN:VEVENT
UID:515@syntopia.info
DTSTART:20151007T160000Z
DTEND:20151007T180000Z
DTSTAMP:20150929T180552Z
URL:https://syntopia.info/events/offenes-syntopia-plenum-8/
SUMMARY:Offenes Syntopia-Plenum
DESCRIPTION:
END:VEVENT
END:VCALENDAR