BEGIN:VCALENDAR
VERSION:2.0
PRODID:-//wp-events-plugin.com//7.2.3.1//EN
TZID:Europe/Berlin
X-WR-TIMEZONE:Europe/Berlin
BEGIN:VEVENT
UID:987@syntopia.info
DTSTART:20160826T170000Z
DTEND:20160826T210000Z
DTSTAMP:20160727T133814Z
URL:https://syntopia.info/events/punkrock-tresen-12/
SUMMARY:Punkrock-Tresen
DESCRIPTION:
END:VEVENT
END:VCALENDAR