BEGIN:VCALENDAR
VERSION:2.0
PRODID:-//wp-events-plugin.com//7.2.3.1//EN
TZID:Europe/Berlin
X-WR-TIMEZONE:Europe/Berlin
BEGIN:VEVENT
UID:2434@syntopia.info
DTSTART:20170707T170000Z
DTEND:20170707T210000Z
DTSTAMP:20170626T030141Z
URL:https://syntopia.info/events/queer-is-the-reality-tresen-mit-film/
SUMMARY:"Queer is the reality"-Tresen [mit Film]
DESCRIPTION:
END:VEVENT
END:VCALENDAR