BEGIN:VCALENDAR
VERSION:2.0
PRODID:-//wp-events-plugin.com//7.2.3.1//EN
TZID:Europe/Berlin
X-WR-TIMEZONE:Europe/Berlin
BEGIN:VEVENT
UID:6021@syntopia.info
DTSTART:20200207T170000Z
DTEND:20200207T210000Z
DTSTAMP:20200124T101637Z
URL:https://syntopia.info/events/riseup-tresen-6/
SUMMARY:Riseup-Tresen
DESCRIPTION:
END:VEVENT
END:VCALENDAR