BEGIN:VCALENDAR
VERSION:2.0
PRODID:-//wp-events-plugin.com//7.2.3.1//EN
TZID:Europe/Berlin
X-WR-TIMEZONE:Europe/Berlin
BEGIN:VEVENT
UID:429@syntopia.info
DTSTART:20150710T170000Z
DTEND:20150710T210000Z
DTSTAMP:20150629T141424Z
URL:https://syntopia.info/events/schwarz-roter-tresen-3/
SUMMARY:Schwarz-Roter-Tresen
DESCRIPTION:
END:VEVENT
END:VCALENDAR