BEGIN:VCALENDAR
VERSION:2.0
PRODID:-//wp-events-plugin.com//7.2.3.1//EN
TZID:Europe/Berlin
X-WR-TIMEZONE:Europe/Berlin
BEGIN:VEVENT
UID:7624@syntopia.info
DTSTART;TZID=Europe/Berlin:20251002T200000
DTEND;TZID=Europe/Berlin:20251002T210000
DTSTAMP:20260104T121031Z
URL:https://syntopia.info/events/solidarische-kueche-4-2025-10-02/
SUMMARY:Solidarische Küche
DESCRIPTION:Wir sind Menschen aus dem Syntopia und melden uns hier als Hoch
 feld Solidarisch. Hochfeld Solidarisch ist eine neue Initiative für eine
  organisierte und solidarische Nachbarschaft in Duisburg-Hochfeld. Lust me
 hr zu erfahren oder mitzumachen? Sprich uns im Syntopia an!\n\nAm ersten u
 nd dritten Donnerstag des Monats um 20 Uhr machen wir im Syntopia Solidari
 sche Küche: Kommt zum veganen Umsonst-Essen vorbei! Auch wollen wir dann
  gern schauen\, ob und wie solidarische Küche wieder regelmäßig dort 
 stattfinden kann.\n\nDu hast auch Zeit und Lust\, solidarisch zu kochen? D
 ann komm' gerne schon ab 18:00 Uhr vorbei.\nDu willst mitmachen\, hast an 
 dem Tag aber keine Zeit? Dann melde Dich gern im Syntopia.
LOCATION:Syntopia\, Gerokstr. 2\, Duisburg\, 47053\, Deutschland
GEO:51.41981;6.75293
X-APPLE-STRUCTURED-LOCATION;VALUE=URI;X-ADDRESS=Gerokstr. 2\, Duisburg\, 47
 053\, Deutschland;X-APPLE-RADIUS=100;X-TITLE=Syntopia:geo:51.41981,6.75293
END:VEVENT
BEGIN:VTIMEZONE
TZID:Europe/Berlin
X-LIC-LOCATION:Europe/Berlin
BEGIN:DAYLIGHT
DTSTART:20250330T030000
TZOFFSETFROM:+0100
TZOFFSETTO:+0200
TZNAME:CEST
END:DAYLIGHT
END:VTIMEZONE
END:VCALENDAR