BEGIN:VCALENDAR
VERSION:2.0
PRODID:-//wp-events-plugin.com//7.2.3.1//EN
TZID:Europe/Berlin
X-WR-TIMEZONE:Europe/Berlin
BEGIN:VEVENT
UID:2054@syntopia.info
DTSTART:20160716T130000Z
DTEND:20160716T160000Z
DTSTAMP:20170422T200658Z
URL:https://syntopia.info/events/togather-jam-session-2016-07-16/
SUMMARY:Togather: Jam-Session
DESCRIPTION:Ein wunderbarer Klang wird den Raum füllen\, wenn wieder einma
 l Harfe auf\nTrommel trifft\, Flöte auf Gitarre\, Gesang auf Ukulele… I
 hr seid alle herzlich\neingeladen zu unserer nächsten Jam-Session im Synt
 opia! Bringt so viele\nInstrumente und Freunde wie möglich mit!\n\ntogath
 er\n\n—\n\n(Das togather Projekt veranstaltet auch andere Treffen im Syn
 topia – findet uns\nauf facebook! www.fb.com/groups/togather.du )
END:VEVENT
END:VCALENDAR