BEGIN:VCALENDAR
VERSION:2.0
PRODID:-//wp-events-plugin.com//7.2.3.1//EN
TZID:Europe/Berlin
X-WR-TIMEZONE:Europe/Berlin
BEGIN:VEVENT
UID:613@syntopia.info
DTSTART:20151226T130000Z
DTEND:20151226T163000Z
DTSTAMP:20151212T130938Z
URL:https://syntopia.info/events/togather-jam-session-3/
SUMMARY:TOGATHER: Jam-Session - fällt leider aus
DESCRIPTION:Infos zu dieser und weiteren TOGATHER-Veranstaltungen gibts in 
 der Facebook-Gruppe des Projekts.
END:VEVENT
END:VCALENDAR