BEGIN:VCALENDAR
VERSION:2.0
PRODID:-//wp-events-plugin.com//7.2.3.1//EN
TZID:Europe/Berlin
X-WR-TIMEZONE:Europe/Berlin
BEGIN:VEVENT
UID:4904@syntopia.info
DTSTART:20190201T170000Z
DTEND:20190201T170000Z
DTSTAMP:20190127T141947Z
URL:https://syntopia.info/events/trash-tresen/
SUMMARY:Trash-Tresen
DESCRIPTION:
END:VEVENT
END:VCALENDAR