BEGIN:VCALENDAR
VERSION:2.0
PRODID:-//wp-events-plugin.com//7.2.3.1//EN
TZID:Europe/Berlin
X-WR-TIMEZONE:Europe/Berlin
BEGIN:VEVENT
UID:6140@syntopia.info
DTSTART:20190902T173000Z
DTEND:20190902T193000Z
DTSTAMP:20200610T173835Z
URL:https://syntopia.info/events/treffen-der-dhv-ortsgruppe-duisburg-2019-
 09-02/
SUMMARY:Offenes Treffen Hanf-Initiative Duisburg
DESCRIPTION:Mehr Infos: https://www.facebook.com/hanfverbandduisburg/
END:VEVENT
END:VCALENDAR