BEGIN:VCALENDAR
VERSION:2.0
PRODID:-//wp-events-plugin.com//7.2.3.1//EN
TZID:Europe/Berlin
X-WR-TIMEZONE:Europe/Berlin
BEGIN:VEVENT
UID:318@syntopia.info
DTSTART:20150515T170000Z
DTEND:20150515T210000Z
DTSTAMP:20150423T133443Z
URL:https://syntopia.info/events/tresen-3/
SUMMARY:Tresen
DESCRIPTION:
END:VEVENT
END:VCALENDAR