BEGIN:VCALENDAR
VERSION:2.0
PRODID:-//wp-events-plugin.com//7.2.3.1//EN
TZID:Europe/Berlin
X-WR-TIMEZONE:Europe/Berlin
BEGIN:VEVENT
UID:947@syntopia.info
DTSTART:20160729T170000Z
DTEND:20160729T210000Z
DTSTAMP:20160729T124002Z
URL:https://syntopia.info/events/tresen-31/
SUMMARY:DUiy-Tresen
DESCRIPTION:Offener Tresen der Freiraumkampgne DU it yourself!
END:VEVENT
END:VCALENDAR