BEGIN:VCALENDAR
VERSION:2.0
PRODID:-//wp-events-plugin.com//7.2.3.1//EN
TZID:Europe/Berlin
X-WR-TIMEZONE:Europe/Berlin
BEGIN:VEVENT
UID:4371@syntopia.info
DTSTART:20181207T170000Z
DTEND:20181207T210000Z
DTSTAMP:20181121T155859Z
URL:https://syntopia.info/events/tresen-67/
SUMMARY:Tresen
DESCRIPTION:
END:VEVENT
END:VCALENDAR