BEGIN:VCALENDAR
VERSION:2.0
PRODID:-//wp-events-plugin.com//7.2.3.1//EN
TZID:Europe/Berlin
X-WR-TIMEZONE:Europe/Berlin
BEGIN:VEVENT
UID:7465@syntopia.info
DTSTART;TZID=Europe/Berlin:20231027T190000
DTEND;TZID=Europe/Berlin:20231027T230000
DTSTAMP:20260104T121422Z
URL:https://syntopia.info/events/tresen-abend-2023-10-27/
SUMMARY:Tresen-Abend
DESCRIPTION:Liebe Freund*innen\,\nWir laden zum Tresen-Abend ins Syntopia. 
 Lernt uns\, lernt euch untereinander\, lernt das Syntopia kennen. Ob Stamm
 gast\, "schon lange nicht mehr da gewesen" oder "zum ersten Mal im Syntopi
 a" wir freuen uns auf einen geselligen Abend mit euch und stellen schon ei
 nmal ein paar Getränke kalt.
LOCATION:Syntopia\, Gerokstr. 2\, Duisburg\, 47053\, Deutschland
GEO:51.41981;6.75293
X-APPLE-STRUCTURED-LOCATION;VALUE=URI;X-ADDRESS=Gerokstr. 2\, Duisburg\, 47
 053\, Deutschland;X-APPLE-RADIUS=100;X-TITLE=Syntopia:geo:51.41981,6.75293
END:VEVENT
BEGIN:VTIMEZONE
TZID:Europe/Berlin
X-LIC-LOCATION:Europe/Berlin
BEGIN:DAYLIGHT
DTSTART:20230326T030000
TZOFFSETFROM:+0100
TZOFFSETTO:+0200
TZNAME:CEST
END:DAYLIGHT
END:VTIMEZONE
END:VCALENDAR