BEGIN:VCALENDAR
VERSION:2.0
PRODID:-//wp-events-plugin.com//7.2.3.1//EN
TZID:Europe/Berlin
X-WR-TIMEZONE:Europe/Berlin
BEGIN:VEVENT
UID:243@syntopia.info
DTSTART:20150227T170000Z
DTEND:20150227T210000Z
DTSTAMP:20150217T210340Z
URL:https://syntopia.info/events/tresen-mein-bier-ist-wichtiger-als-deutsc
 hland/
SUMMARY:Antinationaler Tresen: "Mein Bier ist wichtiger als Deutschland"
DESCRIPTION:Antinationaler Tresen  - „Mein Bier ist wichtiger als Deutsc
 hland“\n\nIn Zeiten von Pegida muss das auch mal wieder sein: Ein gepfle
 gtes unpatriotisches Kaltgetränk!\nAm letzten Freitag im Februar laden wi
 r euch zu unserem Antinationalen Tresen unter dem Motto „Mein Bier* ist 
 wichtiger als Deutschland“  ein!\n\n*oder Mate\, Limo\, Cola\, usw.\n\n
 Neben passender Musik haben wir noch einige Specials für euch vorbereitet
  - es wird also noch etwas leckeres für Kopf &amp\; Bauch gegen Spende ge
 ben! Lasst euch überraschen \;-)\n
END:VEVENT
END:VCALENDAR