BEGIN:VCALENDAR
VERSION:2.0
PRODID:-//wp-events-plugin.com//7.2.3.1//EN
TZID:Europe/Berlin
X-WR-TIMEZONE:Europe/Berlin
BEGIN:VEVENT
UID:349@syntopia.info
DTSTART:20150524T100000Z
DTEND:20150524T140000Z
DTSTAMP:20150512T213717Z
URL:https://syntopia.info/events/veganer-mitmach-brunch-4/
SUMMARY:Veganer Mitmach-Brunch
DESCRIPTION:Ihr seid alle herzlich dazu eingeladen vorbeizukommen und mit u
 ns zu brunchen. Für Getränke und Brötchen ist gesorgt\, darüber hinaus
  darf alles mitgebracht werden worauf ihr Lust habt.\nFalls ihr spontan vo
 rbeikommt und nichts dabei habt\, seid ihr natürlich trotzdem herzlich ei
 ngeladen und könnt gerne auch durch eine kleine Spende zu diesem Brunch b
 eitragen.
END:VEVENT
END:VCALENDAR